BEGIN:VCALENDAR
VERSION:2.0
CALSCALE:GREGORIAN
PRODID:adamgibbons/ics
METHOD:PUBLISH
X-PUBLISHED-TTL:PT1H
BEGIN:VEVENT
UID:370@tricity.dance
SUMMARY:Swingowa Paszcza
DTSTAMP:20260425T143510Z
DTSTART:20260528T173000Z
DTEND:20260528T210000Z
DESCRIPTION:Zapraszamy na swingową potańcówkę w Paszcza Lwa!\n\nDla osób\, 
	które jeszcze nie były w tym wyjątkowym miejscu garść informacji:\n- gramy
	 muzykę swingową różnorodną do Lindy Hopa\, Balboa\, Shaga\, Boogie\, na\n
	pewno nie zabraknie szybkich nutek\,\n- warto wziąć buty na zmianę (poleca
	my trampki)\,\n- na barze jest możliwość płatności kartą\, ale gotówka mil
	e widziana.\n\nWstęp: 5zł do kapelusza na barze\n\nSerdecznie zapraszamy !
URL:https://tricity.dance/event/swingowa-paszcza-11
LOCATION:Paszcza Lwa - Ulica Kwietnia 40\, 80-330 Gdańsk
STATUS:CONFIRMED
CATEGORIES:Shag,Paszcza Lwa,Lind hop,Balboa,Gdańsk,Boogie
X-ALT-DESC;FMTTYPE=text/html:<p>Zapraszamy na swingową potańcówkę w Paszcza
	 Lwa!</p><p>Dla osób, które jeszcze nie były w tym wyjątkowym miejscu garś
	ć informacji:<br>- gramy muzykę swingową różnorodną do Lindy Hopa, Balboa,
	 Shaga, Boogie, na pewno nie zabraknie szybkich nutek,<br>- warto wziąć bu
	ty na zmianę (polecamy trampki),<br>- na barze jest możliwość płatności ka
	rtą, ale gotówka mile widziana.</p><p>Wstęp: 5zł do kapelusza na barze</p>
	<p>Serdecznie zapraszamy !</p>
END:VEVENT
BEGIN:VEVENT
UID:365@tricity.dance
SUMMARY:Swingowa Paszcza
DTSTAMP:20260425T143510Z
DTSTART:20260409T173000Z
DTEND:20260409T210000Z
DESCRIPTION:Zapraszamy na swingową potańcówkę w Paszcza Lwa!\n\nDla osób\, 
	które jeszcze nie były w tym wyjątkowym miejscu garść informacji:\n- gramy
	 muzykę swingową różnorodną do Lindy Hopa\, Balboa\, Shaga\, Boogie\, na\n
	pewno nie zabraknie szybkich nutek\,\n- warto wziąć buty na zmianę (poleca
	my trampki)\,\n- na barze jest możliwość płatności kartą\, ale gotówka mil
	e widziana.\n\nWstęp: 5zł do kapelusza na barze\n\nSerdecznie zapraszamy !
URL:https://tricity.dance/event/swingowa-paszcza-10
LOCATION:Paszcza Lwa - Ulica Kwietnia 40\, 80-330 Gdańsk
STATUS:CONFIRMED
CATEGORIES:Lind hop,Balboa,Boogie,Gdańsk,Paszcza Lwa,Shag
X-ALT-DESC;FMTTYPE=text/html:<p>Zapraszamy na swingową potańcówkę w Paszcza
	 Lwa!</p><p>Dla osób, które jeszcze nie były w tym wyjątkowym miejscu garś
	ć informacji:<br>- gramy muzykę swingową różnorodną do Lindy Hopa, Balboa,
	 Shaga, Boogie, na pewno nie zabraknie szybkich nutek,<br>- warto wziąć bu
	ty na zmianę (polecamy trampki),<br>- na barze jest możliwość płatności ka
	rtą, ale gotówka mile widziana.</p><p>Wstęp: 5zł do kapelusza na barze</p>
	<p>Serdecznie zapraszamy !</p>
END:VEVENT
BEGIN:VEVENT
UID:357@tricity.dance
SUMMARY:Swingowa Paszcza
DTSTAMP:20260425T143510Z
DTSTART:20260320T183000Z
DTEND:20260320T220000Z
DESCRIPTION:Zapraszamy na swingową potańcówkę w Paszcza Lwa!\n\nDla osób\, 
	które jeszcze nie były w tym wyjątkowym miejscu garść informacji:\n- gramy
	 muzykę swingową różnorodną do Lindy Hopa\, Balboa\, Shaga\, Boogie\, na\n
	pewno nie zabraknie szybkich nutek\,\n- warto wziąć buty na zmianę (poleca
	my trampki)\,\n- na barze jest możliwość płatności kartą\, ale gotówka mil
	e widziana.\n\nWstęp: 5zł do kapelusza na barze\n\nSerdecznie zapraszamy !
URL:https://tricity.dance/event/swingowa-paszcza-9
LOCATION:Paszcza Lwa - Ulica Kwietnia 40\, 80-330 Gdańsk
STATUS:CONFIRMED
CATEGORIES:Balboa,Shag,Paszcza Lwa,Lind hop,Gdańsk,Boogie
X-ALT-DESC;FMTTYPE=text/html:<p>Zapraszamy na swingową potańcówkę w Paszcza
	 Lwa!</p><p>Dla osób, które jeszcze nie były w tym wyjątkowym miejscu garś
	ć informacji:<br>- gramy muzykę swingową różnorodną do Lindy Hopa, Balboa,
	 Shaga, Boogie, na pewno nie zabraknie szybkich nutek,<br>- warto wziąć bu
	ty na zmianę (polecamy trampki),<br>- na barze jest możliwość płatności ka
	rtą, ale gotówka mile widziana.</p><p>Wstęp: 5zł do kapelusza na barze</p>
	<p>Serdecznie zapraszamy !</p>
END:VEVENT
END:VCALENDAR
